BEGIN:VCALENDAR
VERSION:2.0
PRODID:-//ExpressionEngine Easy iCalendar plugin//NONSGML v2.0.1//EN
X-WR-TIMEZONE:America/New_York
X-WR-CALNAME:Upcoming Auctions
BEGIN:VEVENT
UID:147244
DTSTAMP:20251001T160000
DTSTART:20251001T160000
DTEND:20251001T170000
SUMMARY:SOLD PRIOR TO AUCTION!  4117 Sheraton
LOCATION:4117 Sheraton Rd\, Toledo\, OH 43606\, US
DESCRIPTION:SOLD PRIOR TO AUCTION!
URL:https://www.amlinauctions.com/auctions/detail/bw147244
SEQUENCE:1
END:VEVENT
END:VCALENDAR