BEGIN:VCALENDAR
VERSION:2.0
PRODID:-//ExpressionEngine Easy iCalendar plugin//NONSGML v2.0.1//EN
X-WR-TIMEZONE:America/New_York
X-WR-CALNAME:Upcoming Auctions
BEGIN:VEVENT
UID:147166
DTSTAMP:20250925T170000
DTSTART:20250925T170000
DTEND:20250925T180000
SUMMARY:SOLD PRIOR TO AUCTION! 3228 Manhattan
LOCATION:3228 E Manhattan \, Toledo\, OH 43611\, US
DESCRIPTION:SOLD PRIOR TO AUCTION! 
URL:https://www.amlinauctions.com/auctions/detail/bw147166
SEQUENCE:1
END:VEVENT
END:VCALENDAR