BEGIN:VCALENDAR
VERSION:2.0
PRODID:-//ExpressionEngine Easy iCalendar plugin//NONSGML v2.0.1//EN
X-WR-TIMEZONE:America/New_York
X-WR-CALNAME:Upcoming Auctions
BEGIN:VEVENT
UID:147152
DTSTAMP:20251006T160000
DTSTART:20251006T160000
DTEND:20251006T170000
SUMMARY:MINIMUM BID AUCTION $149\,000! 7310 W Camper Rd
LOCATION:7310 Camper Rd\, Woodville\, OH 43469\, US
DESCRIPTION:5 acres w/ Outbuildings!
URL:https://www.amlinauctions.com/auctions/detail/bw147152
SEQUENCE:1
END:VEVENT
END:VCALENDAR