BEGIN:VCALENDAR
VERSION:2.0
PRODID:-//ExpressionEngine Easy iCalendar plugin//NONSGML v2.0.1//EN
X-WR-TIMEZONE:America/New_York
X-WR-CALNAME:Upcoming Auctions
BEGIN:VEVENT
UID:147136
DTSTAMP:20250925T150000
DTSTART:20250925T150000
DTEND:20250925T160000
SUMMARY:MINIMUM BID AUCTION $29\,000! 1302 Kelsey Ave
LOCATION:1302 Kelsey Ave\, Toledo\, OH 43605\, US
DESCRIPTION:Commercial Property!
URL:https://www.amlinauctions.com/auctions/detail/bw147136
SEQUENCE:1
END:VEVENT
END:VCALENDAR