BEGIN:VCALENDAR
VERSION:2.0
PRODID:-//ExpressionEngine Easy iCalendar plugin//NONSGML v2.0.1//EN
X-WR-TIMEZONE:America/New_York
X-WR-CALNAME:Upcoming Auctions
BEGIN:VEVENT
UID:147051
DTSTAMP:20250929T160000
DTSTART:20250929T160000
DTEND:20250929T170000
SUMMARY:MINIMUM BID AUCTION $79\,000! 5400 E Albain Rd
LOCATION:5400 E Albain Rd\, Monroe\, MI 48161\, US
DESCRIPTION:4 Beds!
URL:https://www.amlinauctions.com/auctions/detail/bw147051
SEQUENCE:1
END:VEVENT
END:VCALENDAR