BEGIN:VCALENDAR
VERSION:2.0
PRODID:-//ExpressionEngine Easy iCalendar plugin//NONSGML v2.0.1//EN
X-WR-TIMEZONE:America/New_York
X-WR-CALNAME:Upcoming Auctions
BEGIN:VEVENT
UID:146967
DTSTAMP:20250916T150000
DTSTART:20250916T150000
DTEND:20250916T160000
SUMMARY:MINIMUM BID AUCTION $79\,000! 4138 Lewis Ave
LOCATION:4138 Lewis Ave\, Toledo\, OH 43612\, US
DESCRIPTION:Duplex!
URL:https://www.amlinauctions.com/auctions/detail/bw146967
SEQUENCE:1
END:VEVENT
END:VCALENDAR