BEGIN:VCALENDAR
VERSION:2.0
PRODID:-//ExpressionEngine Easy iCalendar plugin//NONSGML v2.0.1//EN
X-WR-TIMEZONE:America/New_York
X-WR-CALNAME:Upcoming Auctions
BEGIN:VEVENT
UID:146959
DTSTAMP:20250909T160000
DTSTART:20250909T160000
DTEND:20250909T170000
SUMMARY:MINIMUM BID AUCTION $50\,000! 0 PEMBERVILLE RD
LOCATION:Pemberville Rd\, Luckey\, OH 43443\, US
DESCRIPTION:Over 4 acres! 
URL:https://www.amlinauctions.com/auctions/detail/bw146959
SEQUENCE:1
END:VEVENT
END:VCALENDAR