BEGIN:VCALENDAR
VERSION:2.0
PRODID:-//ExpressionEngine Easy iCalendar plugin//NONSGML v2.0.1//EN
X-WR-TIMEZONE:America/New_York
X-WR-CALNAME:Upcoming Auctions
BEGIN:VEVENT
UID:146958
DTSTAMP:20250930T160000
DTSTART:20250930T160000
DTEND:20250930T170000
SUMMARY:MINIMUM BID AUCTION $50\,000! 8276 Dorr St
LOCATION:8276 Dorr St\, Toledo\, OH 43617\, US
DESCRIPTION:Sits on over an acre!
URL:https://www.amlinauctions.com/auctions/detail/bw146958
SEQUENCE:1
END:VEVENT
END:VCALENDAR