BEGIN:VCALENDAR
VERSION:2.0
PRODID:-//ExpressionEngine Easy iCalendar plugin//NONSGML v2.0.1//EN
X-WR-TIMEZONE:America/New_York
X-WR-CALNAME:Upcoming Auctions
BEGIN:VEVENT
UID:146828
DTSTAMP:20251009T160000
DTSTART:20251009T160000
DTEND:20251009T170000
SUMMARY:MINIMUM BID AUCTION $49\,000! 617 & 621 S McCord
LOCATION:621 S Mccord\, Holland\, OH 43528\, US
DESCRIPTION:Buildable Lot in Springfield Township
URL:https://www.amlinauctions.com/auctions/detail/bw146828
SEQUENCE:1
END:VEVENT
END:VCALENDAR