BEGIN:VCALENDAR
VERSION:2.0
PRODID:-//ExpressionEngine Easy iCalendar plugin//NONSGML v2.0.1//EN
X-WR-TIMEZONE:America/New_York
X-WR-CALNAME:Upcoming Auctions
BEGIN:VEVENT
UID:146792
DTSTAMP:20250909T160000
DTSTART:20250909T160000
DTEND:20250909T170000
SUMMARY:MINIMUM BID AUCTION $199\,000! 21306 Pemberville Rd
LOCATION:21306 Pemberville Rd\, Luckey \, OH 43443\, US
DESCRIPTION:Large move in ready home!
URL:https://www.amlinauctions.com/auctions/detail/bw146792
SEQUENCE:1
END:VEVENT
END:VCALENDAR