BEGIN:VCALENDAR
VERSION:2.0
PRODID:-//ExpressionEngine Easy iCalendar plugin//NONSGML v2.0.1//EN
X-WR-TIMEZONE:America/New_York
X-WR-CALNAME:Upcoming Auctions
BEGIN:VEVENT
UID:146790
DTSTAMP:20250910T150000
DTSTART:20250910T150000
DTEND:20250910T160000
SUMMARY:SOLD PRIOR TO AUCTION! 2105 Evansdale Ave
LOCATION:2105 Evansdale Ave\, Toledo\, OH 43607\, US
DESCRIPTION:SOLD PRIOR TO AUCTION! 
URL:https://www.amlinauctions.com/auctions/detail/bw146790
SEQUENCE:1
END:VEVENT
END:VCALENDAR