BEGIN:VCALENDAR
VERSION:2.0
PRODID:-//ExpressionEngine Easy iCalendar plugin//NONSGML v2.0.1//EN
X-WR-TIMEZONE:America/New_York
X-WR-CALNAME:Upcoming Auctions
BEGIN:VEVENT
UID:146712
DTSTAMP:20250827T133000
DTSTART:20250827T133000
DTEND:20250827T143000
SUMMARY:STOP N LOCK STORAGE AUCTION!
LOCATION:302 N Byrne Rd\, Toledo\, OH 43607\, US
DESCRIPTION:Byrne Rd only!
URL:https://www.amlinauctions.com/auctions/detail/bw146712
SEQUENCE:1
END:VEVENT
END:VCALENDAR