BEGIN:VCALENDAR
VERSION:2.0
PRODID:-//ExpressionEngine Easy iCalendar plugin//NONSGML v2.0.1//EN
X-WR-TIMEZONE:America/New_York
X-WR-CALNAME:Upcoming Auctions
BEGIN:VEVENT
UID:146661
DTSTAMP:20250818T141200
DTSTART:20250818T141200
DTEND:20250902T180000
SUMMARY:VINTAGE FURNITURE\, TOOLS\, ARTWORK AND HOUSEHOLD ITEMS ONLINE
  ONLY AUCTION
LOCATION:25101 West River Rd\, Perrysburg \, OH 43551\, US
DESCRIPTION:Bidding will end on Tuesday\, September 2nd at 6:00PM.  
URL:https://www.amlinauctions.com/auctions/detail/bw146661
SEQUENCE:1
END:VEVENT
END:VCALENDAR