BEGIN:VCALENDAR
VERSION:2.0
PRODID:-//ExpressionEngine Easy iCalendar plugin//NONSGML v2.0.1//EN
X-WR-TIMEZONE:America/New_York
X-WR-CALNAME:Upcoming Auctions
BEGIN:VEVENT
UID:146317
DTSTAMP:20250918T160000
DTSTART:20250918T160000
DTEND:20250918T170000
SUMMARY:MINIMUM BID AUCTION $99\,000! 28543 Earl Dr
LOCATION:28543 Earl Dr\, Millbury\, OH 43447\, US
DESCRIPTION:Large 2 bedroom home!
URL:https://www.amlinauctions.com/auctions/detail/bw146317
SEQUENCE:1
END:VEVENT
END:VCALENDAR