BEGIN:VCALENDAR
VERSION:2.0
PRODID:-//ExpressionEngine Easy iCalendar plugin//NONSGML v2.0.1//EN
X-WR-TIMEZONE:America/New_York
X-WR-CALNAME:Upcoming Auctions
BEGIN:VEVENT
UID:146297
DTSTAMP:20250916T160000
DTSTART:20250916T160000
DTEND:20250916T170000
SUMMARY:SOLD PRIOR TO AUCTION!  3001 Midwood Ave
LOCATION:3001 Midwood Ave\, Toledo\, OH 43606\, US
DESCRIPTION:SOLD PRIOR TO AUCTION! 
URL:https://www.amlinauctions.com/auctions/detail/bw146297
SEQUENCE:1
END:VEVENT
END:VCALENDAR