BEGIN:VCALENDAR
VERSION:2.0
PRODID:-//ExpressionEngine Easy iCalendar plugin//NONSGML v2.0.1//EN
X-WR-TIMEZONE:America/New_York
X-WR-CALNAME:Upcoming Auctions
BEGIN:VEVENT
UID:146281
DTSTAMP:20250915T160000
DTSTART:20250915T160000
DTEND:20250915T170000
SUMMARY:MINIMUM BID AUCTION $149\,000! 4349 Eber Rd
LOCATION:4349 S Eber Rd\, Monclova \, OH 43542\, US
DESCRIPTION:4 beds on over an acre!
URL:https://www.amlinauctions.com/auctions/detail/bw146281
SEQUENCE:1
END:VEVENT
END:VCALENDAR