BEGIN:VCALENDAR
VERSION:2.0
PRODID:-//ExpressionEngine Easy iCalendar plugin//NONSGML v2.0.1//EN
X-WR-TIMEZONE:America/New_York
X-WR-CALNAME:Upcoming Auctions
BEGIN:VEVENT
UID:146232
DTSTAMP:20250814T165200
DTSTART:20250814T165200
DTEND:20250824T180000
SUMMARY:CAR\, MOTORCYCLES\, TOOLS AND HOUSEHOLD ITEMS ONLINE ONLY AUCT
 ION
LOCATION:2247 Marcy Street\, Toledo\, OH 43605\, US
DESCRIPTION:Bidding will end on Sunday\, August 24th at 6:00PM.  
URL:https://www.amlinauctions.com/auctions/detail/bw146232
SEQUENCE:1
END:VEVENT
END:VCALENDAR