BEGIN:VCALENDAR
VERSION:2.0
PRODID:-//ExpressionEngine Easy iCalendar plugin//NONSGML v2.0.1//EN
X-WR-TIMEZONE:America/New_York
X-WR-CALNAME:Upcoming Auctions
BEGIN:VEVENT
UID:146212
DTSTAMP:20250826T150000
DTSTART:20250826T150000
DTEND:20250826T160000
SUMMARY:SOLD PRIOR TO AUCTION! 8411 Faldl Rd
LOCATION:8411 Faldl Rd\, Sylvania\, OH 43560\, US
DESCRIPTION:SOLD PRIOR TO AUCTION! 
URL:https://www.amlinauctions.com/auctions/detail/bw146212
SEQUENCE:1
END:VEVENT
END:VCALENDAR