BEGIN:VCALENDAR
VERSION:2.0
PRODID:-//ExpressionEngine Easy iCalendar plugin//NONSGML v2.0.1//EN
X-WR-TIMEZONE:America/New_York
X-WR-CALNAME:Upcoming Auctions
BEGIN:VEVENT
UID:146206
DTSTAMP:20250910T160000
DTSTART:20250910T160000
DTEND:20250910T170000
SUMMARY:SOLD PRIOR TO AUCTION! 222 Somerset St
LOCATION:222 Somerset St\, Toledo\, OH 43609\, US
DESCRIPTION:SOLD PRIOR TO AUCTION! 
URL:https://www.amlinauctions.com/auctions/detail/bw146206
SEQUENCE:1
END:VEVENT
END:VCALENDAR