BEGIN:VCALENDAR
VERSION:2.0
PRODID:-//ExpressionEngine Easy iCalendar plugin//NONSGML v2.0.1//EN
X-WR-TIMEZONE:America/New_York
X-WR-CALNAME:Upcoming Auctions
BEGIN:VEVENT
UID:146158
DTSTAMP:20250828T160000
DTSTART:20250828T160000
DTEND:20250828T170000
SUMMARY:MINIMUM BID AUCTION $59\,000! 202 E Union St
LOCATION:202 E Union St\, Walbridge\, OH 43465\, US
DESCRIPTION:5 beds!
URL:https://www.amlinauctions.com/auctions/detail/bw146158
SEQUENCE:1
END:VEVENT
END:VCALENDAR