BEGIN:VCALENDAR
VERSION:2.0
PRODID:-//ExpressionEngine Easy iCalendar plugin//NONSGML v2.0.1//EN
X-WR-TIMEZONE:America/New_York
X-WR-CALNAME:Upcoming Auctions
BEGIN:VEVENT
UID:145946
DTSTAMP:20250911T160000
DTSTART:20250911T160000
DTEND:20250911T170000
SUMMARY:MINIMUM BID AUCTION $425\,000! 12294 Lakeshore Dr
LOCATION:12294 Lakeshore Dr\, La Salle \, MI 48145\, US
DESCRIPTION:Lake Erie waterfront!
URL:https://www.amlinauctions.com/auctions/detail/bw145946
SEQUENCE:1
END:VEVENT
END:VCALENDAR