BEGIN:VCALENDAR
VERSION:2.0
PRODID:-//ExpressionEngine Easy iCalendar plugin//NONSGML v2.0.1//EN
X-WR-TIMEZONE:America/New_York
X-WR-CALNAME:Upcoming Auctions
BEGIN:VEVENT
UID:145842
DTSTAMP:20250908T160000
DTSTART:20250908T160000
DTEND:20250908T170000
SUMMARY:MINIMUM BID AUCTION $369\,000! 969 Dixie Hwy
LOCATION:969 Dixie HWy\, Rossford\, OH 43460\, US
DESCRIPTION:Commercial Opportunity!
URL:https://www.amlinauctions.com/auctions/detail/bw145842
SEQUENCE:1
END:VEVENT
END:VCALENDAR