BEGIN:VCALENDAR
VERSION:2.0
PRODID:-//ExpressionEngine Easy iCalendar plugin//NONSGML v2.0.1//EN
X-WR-TIMEZONE:America/New_York
X-WR-CALNAME:Upcoming Auctions
BEGIN:VEVENT
UID:145691
DTSTAMP:20250804T104800
DTSTART:20250804T104800
DTEND:20250817T180000
SUMMARY:TRUCK\, BOAT AND HOUSEHOLD ITEMS ONLINE ONLY AUCTION
LOCATION:12294 N Lakeshore Dr\, La Salle\, MI 48145\, US
DESCRIPTION:Bidding ends Sunday August 17th at 6:00PM
URL:https://www.amlinauctions.com/auctions/detail/bw145691
SEQUENCE:1
END:VEVENT
END:VCALENDAR