BEGIN:VCALENDAR
VERSION:2.0
PRODID:-//ExpressionEngine Easy iCalendar plugin//NONSGML v2.0.1//EN
X-WR-TIMEZONE:America/New_York
X-WR-CALNAME:Upcoming Auctions
BEGIN:VEVENT
UID:145572
DTSTAMP:20250902T160000
DTSTART:20250902T160000
DTEND:20250902T170000
SUMMARY:SOLD PRIOR TO AUCTION! 7428 Kings Walk Lane
LOCATION:7428 Kings Walk Lane\, Sylvania\, OH 43560\, US
DESCRIPTION:SOLD PRIOR TO AUCTION!
URL:https://www.amlinauctions.com/auctions/detail/bw145572
SEQUENCE:1
END:VEVENT
END:VCALENDAR