BEGIN:VCALENDAR
VERSION:2.0
PRODID:-//ExpressionEngine Easy iCalendar plugin//NONSGML v2.0.1//EN
X-WR-TIMEZONE:America/New_York
X-WR-CALNAME:Upcoming Auctions
BEGIN:VEVENT
UID:145365
DTSTAMP:20250825T173000
DTSTART:20250825T173000
DTEND:20250825T183000
SUMMARY:MINIMUM BID AUCTION $139\,000! 616 River Rd
LOCATION:616 River Rd\, Maumee\, OH 43537\, US
DESCRIPTION:Riverfront Property!
URL:https://www.amlinauctions.com/auctions/detail/bw145365
SEQUENCE:1
END:VEVENT
END:VCALENDAR