BEGIN:VCALENDAR
VERSION:2.0
PRODID:-//ExpressionEngine Easy iCalendar plugin//NONSGML v2.0.1//EN
X-WR-TIMEZONE:America/New_York
X-WR-CALNAME:Upcoming Auctions
BEGIN:VEVENT
UID:145316
DTSTAMP:20250729T150700
DTSTART:20250729T150700
DTEND:20250804T180000
SUMMARY:TOOLBOXES\, TOOLS AND RESTAURANT EQUIPMENT ONLINE ONLY AUCTIO
 N
LOCATION:1667 Woodville Rd\, Millbury\, OH 43447\, US
DESCRIPTION:BIDDING WILL END AUGUST 4TH AT 6:00PM.
URL:https://www.amlinauctions.com/auctions/detail/bw145316
SEQUENCE:1
END:VEVENT
END:VCALENDAR