BEGIN:VCALENDAR
VERSION:2.0
PRODID:-//ExpressionEngine Easy iCalendar plugin//NONSGML v2.0.1//EN
X-WR-TIMEZONE:America/New_York
X-WR-CALNAME:Upcoming Auctions
BEGIN:VEVENT
UID:145301
DTSTAMP:20250904T160000
DTSTART:20250904T160000
DTEND:20250904T170000
SUMMARY:MINIMUM BID AUCTION $160\,000!  242 Bierley Ave
LOCATION:242 Beirley Ave\, Pembervile\, OH 43450\, US
DESCRIPTION:Over half an acre!
URL:https://www.amlinauctions.com/auctions/detail/bw145301
SEQUENCE:1
END:VEVENT
END:VCALENDAR