BEGIN:VCALENDAR
VERSION:2.0
PRODID:-//ExpressionEngine Easy iCalendar plugin//NONSGML v2.0.1//EN
X-WR-TIMEZONE:America/New_York
X-WR-CALNAME:Upcoming Auctions
BEGIN:VEVENT
UID:145168
DTSTAMP:20250821T150000
DTSTART:20250821T150000
DTEND:20250821T160000
SUMMARY:MINIMUM BID AUCTION $45\,000! 255 Marlyand Ave
LOCATION:255 Maryland Ave\, Toledo\, OH 43605\, US
DESCRIPTION:Move in ready!
URL:https://www.amlinauctions.com/auctions/detail/bw145168
SEQUENCE:1
END:VEVENT
END:VCALENDAR