BEGIN:VCALENDAR
VERSION:2.0
PRODID:-//ExpressionEngine Easy iCalendar plugin//NONSGML v2.0.1//EN
X-WR-TIMEZONE:America/New_York
X-WR-CALNAME:Upcoming Auctions
BEGIN:VEVENT
UID:145078
DTSTAMP:20250825T160000
DTSTART:20250825T160000
DTEND:20250825T170000
SUMMARY:MINIMUM BID AUCTION $89\,000! 850 Lamonde Dr
LOCATION:850 Lamonde Dr\, Maumee\, OH 43537\, US
DESCRIPTION:Maumee Schools!
URL:https://www.amlinauctions.com/auctions/detail/bw145078
SEQUENCE:1
END:VEVENT
END:VCALENDAR