BEGIN:VCALENDAR
VERSION:2.0
PRODID:-//ExpressionEngine Easy iCalendar plugin//NONSGML v2.0.1//EN
X-WR-TIMEZONE:America/New_York
X-WR-CALNAME:Upcoming Auctions
BEGIN:VEVENT
UID:144942
DTSTAMP:20250827T160000
DTSTART:20250827T160000
DTEND:20250827T170000
SUMMARY:SOLD PRIOR TO AUCTION! 2247 Marcy St
LOCATION:2247 Marcy St\, Toledo\, OH 43605\, US
DESCRIPTION:SOLD PRIOR TO AUCTION!
URL:https://www.amlinauctions.com/auctions/detail/bw144942
SEQUENCE:1
END:VEVENT
END:VCALENDAR