BEGIN:VCALENDAR
VERSION:2.0
PRODID:-//ExpressionEngine Easy iCalendar plugin//NONSGML v2.0.1//EN
X-WR-TIMEZONE:America/New_York
X-WR-CALNAME:Upcoming Auctions
BEGIN:VEVENT
UID:144914
DTSTAMP:20250821T160000
DTSTART:20250821T160000
DTEND:20250821T170000
SUMMARY:MINIMUM BID AUCTION $29\,000! 222/218 E Park
LOCATION:222 E Park St\, Toledo\, OH 43608\, US
DESCRIPTION:2 Homes!
URL:https://www.amlinauctions.com/auctions/detail/bw144914
SEQUENCE:1
END:VEVENT
END:VCALENDAR