BEGIN:VCALENDAR
VERSION:2.0
PRODID:-//ExpressionEngine Easy iCalendar plugin//NONSGML v2.0.1//EN
X-WR-TIMEZONE:America/New_York
X-WR-CALNAME:Upcoming Auctions
BEGIN:VEVENT
UID:144714
DTSTAMP:20250805T160000
DTSTART:20250805T160000
DTEND:20250805T170000
SUMMARY:SOLD PRIOR TO AUCTION! 3431 Elm St
LOCATION:3431 Elm St\, Toledo\, OH 43608\, US
DESCRIPTION:SOLD PRIOR TO AUCTION! 
URL:https://www.amlinauctions.com/auctions/detail/bw144714
SEQUENCE:1
END:VEVENT
END:VCALENDAR