BEGIN:VCALENDAR
VERSION:2.0
PRODID:-//ExpressionEngine Easy iCalendar plugin//NONSGML v2.0.1//EN
X-WR-TIMEZONE:America/New_York
X-WR-CALNAME:Upcoming Auctions
BEGIN:VEVENT
UID:144687
DTSTAMP:20250812T160000
DTSTART:20250812T160000
DTEND:20250812T170000
SUMMARY:MINIMUM BID AUCTION $90\,000! 800 Askin St
LOCATION:800 Askin St\, Maumee\, OH 43537\, US
DESCRIPTION:Maumee Schools!
URL:https://www.amlinauctions.com/auctions/detail/bw144687
SEQUENCE:1
END:VEVENT
END:VCALENDAR