BEGIN:VCALENDAR
VERSION:2.0
PRODID:-//ExpressionEngine Easy iCalendar plugin//NONSGML v2.0.1//EN
X-WR-TIMEZONE:America/New_York
X-WR-CALNAME:Upcoming Auctions
BEGIN:VEVENT
UID:144450
DTSTAMP:20250818T160000
DTSTART:20250818T160000
DTEND:20250818T170000
SUMMARY:SOLD PRIOR TO AUCTION! 29249 Bates Rd
LOCATION:29249 Bates Rd\, Perrysburg\, OH 43551\, US
DESCRIPTION:SOLD PRIOR TO AUCTION! 
URL:https://www.amlinauctions.com/auctions/detail/bw144450
SEQUENCE:1
END:VEVENT
END:VCALENDAR