BEGIN:VCALENDAR
VERSION:2.0
PRODID:-//ExpressionEngine Easy iCalendar plugin//NONSGML v2.0.1//EN
X-WR-TIMEZONE:America/New_York
X-WR-CALNAME:Upcoming Auctions
BEGIN:VEVENT
UID:144330
DTSTAMP:20250813T160000
DTSTART:20250813T160000
DTEND:20250813T170000
SUMMARY:MINIMUM BID AUCTION $129\,000! 28601 Hille Dr
LOCATION:28601 Hille Dr\, Millbury\, OH 43447\, US
DESCRIPTION:3 Bed on a Large Lot!
URL:https://www.amlinauctions.com/auctions/detail/bw144330
SEQUENCE:1
END:VEVENT
END:VCALENDAR