BEGIN:VCALENDAR
VERSION:2.0
PRODID:-//ExpressionEngine Easy iCalendar plugin//NONSGML v2.0.1//EN
X-WR-TIMEZONE:America/New_York
X-WR-CALNAME:Upcoming Auctions
BEGIN:VEVENT
UID:144170
DTSTAMP:20250723T130000
DTSTART:20250723T130000
DTEND:20250723T140000
SUMMARY:Stop N Lock Storage Auctions!
LOCATION:5544 Jackman Rd\, Toledo\, OH 43613\, US
DESCRIPTION:Jackman Rd only!
URL:https://www.amlinauctions.com/auctions/detail/bw144170
SEQUENCE:1
END:VEVENT
END:VCALENDAR