BEGIN:VCALENDAR
VERSION:2.0
PRODID:-//ExpressionEngine Easy iCalendar plugin//NONSGML v2.0.1//EN
X-WR-TIMEZONE:America/New_York
X-WR-CALNAME:Upcoming Auctions
BEGIN:VEVENT
UID:144167
DTSTAMP:20250804T160000
DTSTART:20250804T160000
DTEND:20250804T170000
SUMMARY:MINIMUM BID AUCTION $179\,000! 5344 Monroe St
LOCATION:5344 Monroe St\, Toledo\, OH 43623\, US
DESCRIPTION:Commercial land!
URL:https://www.amlinauctions.com/auctions/detail/bw144167
SEQUENCE:1
END:VEVENT
END:VCALENDAR