BEGIN:VCALENDAR
VERSION:2.0
PRODID:-//ExpressionEngine Easy iCalendar plugin//NONSGML v2.0.1//EN
X-WR-TIMEZONE:America/New_York
X-WR-CALNAME:Upcoming Auctions
BEGIN:VEVENT
UID:143636
DTSTAMP:20250806T160000
DTSTART:20250806T160000
DTEND:20250806T170000
SUMMARY:MINIMUM BID AUCTION $100\,000! 6284 County Road 1-1
LOCATION:6284 County Road 1-1\, Swanton \, OH 43558\, US
DESCRIPTION:Multi Parcel Auction!
URL:https://www.amlinauctions.com/auctions/detail/bw143636
SEQUENCE:1
END:VEVENT
END:VCALENDAR