BEGIN:VCALENDAR
VERSION:2.0
PRODID:-//ExpressionEngine Easy iCalendar plugin//NONSGML v2.0.1//EN
X-WR-TIMEZONE:America/New_York
X-WR-CALNAME:Upcoming Auctions
BEGIN:VEVENT
UID:143624
DTSTAMP:20250708T130800
DTSTART:20250708T130800
DTEND:20250715T180000
SUMMARY:BOAT\, MOWER\, TRAILERS AND TOOLS ONLINE ONLY AUCTION
LOCATION:6284 County Rd 1-1\, Swanton\, OH 43558\, US
DESCRIPTION:BIDDING ENDS TUESDAY JULY 15TH AT 6:00PM!
URL:https://www.amlinauctions.com/auctions/detail/bw143624
SEQUENCE:1
END:VEVENT
END:VCALENDAR