BEGIN:VCALENDAR
VERSION:2.0
PRODID:-//ExpressionEngine Easy iCalendar plugin//NONSGML v2.0.1//EN
X-WR-TIMEZONE:America/New_York
X-WR-CALNAME:Upcoming Auctions
BEGIN:VEVENT
UID:143571
DTSTAMP:20250707T160300
DTSTART:20250707T160300
DTEND:20250721T180000
SUMMARY:RESTAURANT EQUIPMENT\, TOOLS AND MORE ONLINE ONLY AUCTION
LOCATION:1667 Woodville rd\, Millbury\, OH 43447\, US
DESCRIPTION:BIDDING WILL END JULY 21ST AT 6:00PM
URL:https://www.amlinauctions.com/auctions/detail/bw143571
SEQUENCE:1
END:VEVENT
END:VCALENDAR