BEGIN:VCALENDAR
VERSION:2.0
PRODID:-//ExpressionEngine Easy iCalendar plugin//NONSGML v2.0.1//EN
X-WR-TIMEZONE:America/New_York
X-WR-CALNAME:Upcoming Auctions
BEGIN:VEVENT
UID:143369
DTSTAMP:20250709T130000
DTSTART:20250709T130000
DTEND:20250709T140000
SUMMARY:MULTI LOCATION STORAGE AUCTION!
LOCATION:6701 Dorr St\, Toledo\, OH 43615\, US
DESCRIPTION:2 Locations!
URL:https://www.amlinauctions.com/auctions/detail/bw143369
SEQUENCE:1
END:VEVENT
END:VCALENDAR