BEGIN:VCALENDAR
VERSION:2.0
PRODID:-//ExpressionEngine Easy iCalendar plugin//NONSGML v2.0.1//EN
X-WR-TIMEZONE:America/New_York
X-WR-CALNAME:Upcoming Auctions
BEGIN:VEVENT
UID:143314
DTSTAMP:20250728T150000
DTSTART:20250728T150000
DTEND:20250728T160000
SUMMARY:MINIMUM BID AUCTION $49\,000! 1344 Corbin Rd
LOCATION:1344 Corbin Rd\, Toledo\, OH 43612\, US
DESCRIPTION:Great Investment!
URL:https://www.amlinauctions.com/auctions/detail/bw143314
SEQUENCE:1
END:VEVENT
END:VCALENDAR