BEGIN:VCALENDAR
VERSION:2.0
PRODID:-//ExpressionEngine Easy iCalendar plugin//NONSGML v2.0.1//EN
X-WR-TIMEZONE:America/New_York
X-WR-CALNAME:Upcoming Auctions
BEGIN:VEVENT
UID:143262
DTSTAMP:20250701T190300
DTSTART:20250701T190300
DTEND:20250708T180000
SUMMARY:TOOLS\, GLASSWARE AND HOUSEHOLD ITEMS ONLINE ONLY AUCTION
LOCATION:1756 South Coy Rd\, Oregon\, OH 43616\, US
DESCRIPTION:Don’t miss this great online-only auction packed with some
 thing for everyone! Whether you’re a DIYer\, collector\, or 
 just looking to stock up your home\, this sale has you covere
 d.     •    A variety of quality tools – hand to
 ols\, power tools\, and more     •    Household item
 s for every room     •    Beautiful glassware and 
 decorative pieces     •    Kitchenware including s
 mall appliances\, cookware\, utensils\, and gadgets Everything 
 sells to the highest bidder! Bid from the comfort of your ho
 me and pick up treasures for a fraction of retail.
URL:https://www.amlinauctions.com/auctions/detail/bw143262
SEQUENCE:1
END:VEVENT
END:VCALENDAR