BEGIN:VCALENDAR
VERSION:2.0
PRODID:-//ExpressionEngine Easy iCalendar plugin//NONSGML v2.0.1//EN
X-WR-TIMEZONE:America/New_York
X-WR-CALNAME:Upcoming Auctions
BEGIN:VEVENT
UID:143131
DTSTAMP:20250807T160000
DTSTART:20250807T160000
DTEND:20250807T170000
SUMMARY:MINIMUM BID AUCTION $99\,000! 3425 PLUMEY RD
LOCATION:3425 Plumey Rd\, Northwood\, OH 43619\, US
DESCRIPTION:Over 13 acres of land!
URL:https://www.amlinauctions.com/auctions/detail/bw143131
SEQUENCE:1
END:VEVENT
END:VCALENDAR