BEGIN:VCALENDAR
VERSION:2.0
PRODID:-//ExpressionEngine Easy iCalendar plugin//NONSGML v2.0.1//EN
X-WR-TIMEZONE:America/New_York
X-WR-CALNAME:Upcoming Auctions
BEGIN:VEVENT
UID:143113
DTSTAMP:20250730T160000
DTSTART:20250730T160000
DTEND:20250730T170000
SUMMARY:MINIMUM BID AUCTION $199\,000! 0 Old State Line Rd
LOCATION:12900 Old State Line Rd\, Swanton\, OH 43558\, US
DESCRIPTION:3 +/- acres in Swanton!  Old State Line Rd. Between Lathrop
  and Wilkins Rd.
URL:https://www.amlinauctions.com/auctions/detail/bw143113
SEQUENCE:1
END:VEVENT
END:VCALENDAR