BEGIN:VCALENDAR
VERSION:2.0
PRODID:-//ExpressionEngine Easy iCalendar plugin//NONSGML v2.0.1//EN
X-WR-TIMEZONE:America/New_York
X-WR-CALNAME:Upcoming Auctions
BEGIN:VEVENT
UID:142897
DTSTAMP:20250729T160000
DTSTART:20250729T160000
DTEND:20250729T170000
SUMMARY:SOLD PRIOR TO AUCTION! 552 Wyman
LOCATION:552 Wyman Rd\, Toledo\, OH 43609\, US
DESCRIPTION:SOLD PRIOR TO AUCTION! 
URL:https://www.amlinauctions.com/auctions/detail/bw142897
SEQUENCE:1
END:VEVENT
END:VCALENDAR