BEGIN:VCALENDAR
VERSION:2.0
PRODID:-//ExpressionEngine Easy iCalendar plugin//NONSGML v2.0.1//EN
X-WR-TIMEZONE:America/New_York
X-WR-CALNAME:Upcoming Auctions
BEGIN:VEVENT
UID:142811
DTSTAMP:20250714T160000
DTSTART:20250714T160000
DTEND:20250714T170000
SUMMARY:MINIMUM BID AUCTION $21\,500! 1508 Bell Ave
LOCATION:1508 Bell Ave\, Toledo\, OH 43607\, US
DESCRIPTION:Fixer Upper!
URL:https://www.amlinauctions.com/auctions/detail/bw142811
SEQUENCE:1
END:VEVENT
END:VCALENDAR