BEGIN:VCALENDAR
VERSION:2.0
PRODID:-//ExpressionEngine Easy iCalendar plugin//NONSGML v2.0.1//EN
X-WR-TIMEZONE:America/New_York
X-WR-CALNAME:Upcoming Auctions
BEGIN:VEVENT
UID:142798
DTSTAMP:20250623T101400
DTSTART:20250623T101400
DTEND:20250702T180000
SUMMARY:CORVETTE\, TRI-TOON AND MOWER ONLINE ONLY AUCTION
LOCATION:{location}
DESCRIPTION:SMALL BUT MIGHTY ONLINE ONLY AUCTION!
URL:https://www.amlinauctions.com/auctions/detail/bw142798
SEQUENCE:1
END:VEVENT
END:VCALENDAR