BEGIN:VCALENDAR
VERSION:2.0
PRODID:-//ExpressionEngine Easy iCalendar plugin//NONSGML v2.0.1//EN
X-WR-TIMEZONE:America/New_York
X-WR-CALNAME:Upcoming Auctions
BEGIN:VEVENT
UID:142386
DTSTAMP:20250717T160000
DTSTART:20250717T160000
DTEND:20250717T170000
SUMMARY:MINIMUM BID AUCTION $199\,000! 1035 Cherry St
LOCATION:1035 Cherry St\, Perrysburg\, OH 43551\, US
DESCRIPTION:3-bedroom ranch in Perrysburg! 
URL:https://www.amlinauctions.com/auctions/detail/bw142386
SEQUENCE:1
END:VEVENT
END:VCALENDAR