BEGIN:VCALENDAR
VERSION:2.0
PRODID:-//ExpressionEngine Easy iCalendar plugin//NONSGML v2.0.1//EN
X-WR-TIMEZONE:America/New_York
X-WR-CALNAME:Upcoming Auctions
BEGIN:VEVENT
UID:142231
DTSTAMP:20250625T170000
DTSTART:20250625T170000
DTEND:20250625T180000
SUMMARY:MINIMUM BID AUCTION $49\,000! 1048 Hawk St
LOCATION:1048 Hawk St\, Toledo\, OH 43612\, US
DESCRIPTION:Cute two bedroom!
URL:https://www.amlinauctions.com/auctions/detail/bw142231
SEQUENCE:1
END:VEVENT
END:VCALENDAR